BEGIN:VCALENDAR
VERSION:2.0
PRODID:JMS Hockey
X-PUBLISHED-TTL:P1W
BEGIN:VEVENT
UID:69e795727d5cd
DTSTART:20140617T003000Z
SEQUENCE:0
TRANSP:OPAQUE
DTEND:20140617T020000Z
URL:http://jmshockey.com/games/6385
LOCATION:Doug Woog Arena (Wakota)
SUMMARY:Lower Level Game at Doug Woog Arena (Wakota)
CLASS:PUBLIC
DTSTAMP:20260421T101914Z
END:VEVENT
END:VCALENDAR