BEGIN:VCALENDAR
VERSION:2.0
PRODID:JMS Hockey
X-PUBLISHED-TTL:P1W
BEGIN:VEVENT
UID:69e787c3daa27
DTSTART:20140531T014000Z
SEQUENCE:0
TRANSP:OPAQUE
DTEND:20140531T031000Z
URL:http://jmshockey.com/games/6378
LOCATION:Doug Woog Arena (Wakota)
SUMMARY:Intermediate Game at Doug Woog Arena (Wakota)
CLASS:PUBLIC
DTSTAMP:20260421T092051Z
END:VEVENT
END:VCALENDAR