BEGIN:VCALENDAR
VERSION:2.0
PRODID:JMS Hockey
X-PUBLISHED-TTL:P1W
BEGIN:VEVENT
UID:69e787b15d1b2
DTSTART:20140517T002000Z
SEQUENCE:0
TRANSP:OPAQUE
DTEND:20140517T015000Z
URL:http://jmshockey.com/games/6373
LOCATION:Doug Woog Arena (Wakota)
SUMMARY:Intermediate Game at Doug Woog Arena (Wakota)
CLASS:PUBLIC
DTSTAMP:20260421T092033Z
END:VEVENT
END:VCALENDAR