BEGIN:VCALENDAR
VERSION:2.0
PRODID:JMS Hockey
X-PUBLISHED-TTL:P1W
BEGIN:VEVENT
UID:69e7961fb0921
DTSTART:20140508T024000Z
SEQUENCE:0
TRANSP:OPAQUE
DTEND:20140508T041000Z
URL:http://jmshockey.com/games/6369
LOCATION:Doug Woog Arena (Wakota)
SUMMARY:Level 3 Game at Doug Woog Arena (Wakota)
CLASS:PUBLIC
DTSTAMP:20260421T102207Z
END:VEVENT
END:VCALENDAR