BEGIN:VCALENDAR
VERSION:2.0
PRODID:JMS Hockey
X-PUBLISHED-TTL:P1W
BEGIN:VEVENT
UID:69e799cf0eee8
DTSTART:20140626T011000Z
SEQUENCE:0
TRANSP:OPAQUE
DTEND:20140626T024000Z
URL:http://jmshockey.com/games/6366
LOCATION:Doug Woog Arena (Wakota)
SUMMARY:Level 3 Game at Doug Woog Arena (Wakota)
CLASS:PUBLIC
DTSTAMP:20260421T103751Z
END:VEVENT
END:VCALENDAR