BEGIN:VCALENDAR
VERSION:2.0
PRODID:JMS Hockey
X-PUBLISHED-TTL:P1W
BEGIN:VEVENT
UID:69e7a312322c5
DTSTART:20140503T024500Z
SEQUENCE:0
TRANSP:OPAQUE
DTEND:20140503T041500Z
URL:http://jmshockey.com/games/6362
LOCATION:Schwan Superrink
SUMMARY:All level Game at Schwan Superrink
CLASS:PUBLIC
DTSTAMP:20260421T111722Z
END:VEVENT
END:VCALENDAR