BEGIN:VCALENDAR
VERSION:2.0
PRODID:JMS Hockey
X-PUBLISHED-TTL:P1W
BEGIN:VEVENT
UID:69e7cb91ab508
DTSTART:20140614T022500Z
SEQUENCE:0
TRANSP:OPAQUE
DTEND:20140614T035500Z
URL:http://jmshockey.com/games/6361
LOCATION:Schwan Superrink
SUMMARY:All level Game at Schwan Superrink
CLASS:PUBLIC
DTSTAMP:20260421T141009Z
END:VEVENT
END:VCALENDAR