BEGIN:VCALENDAR
VERSION:2.0
PRODID:JMS Hockey
X-PUBLISHED-TTL:P1W
BEGIN:VEVENT
UID:69e7e918da52a
DTSTART:20090618T003000Z
SEQUENCE:0
TRANSP:OPAQUE
DTEND:20090618T020000Z
URL:http://jmshockey.com/games/635
LOCATION:St Thomas Ice Arena
SUMMARY:Level 4 Game at St Thomas Ice Arena
CLASS:PUBLIC
DTSTAMP:20260421T161608Z
END:VEVENT
END:VCALENDAR