BEGIN:VCALENDAR
VERSION:2.0
PRODID:JMS Hockey
X-PUBLISHED-TTL:P1W
BEGIN:VEVENT
UID:69e7a35755028
DTSTART:20140807T020000Z
SEQUENCE:0
TRANSP:OPAQUE
DTEND:20140807T033000Z
URL:http://jmshockey.com/games/6316
LOCATION:Maple Grove
SUMMARY:Intermediate Game at Maple Grove
CLASS:PUBLIC
DTSTAMP:20260421T111831Z
END:VEVENT
END:VCALENDAR