BEGIN:VCALENDAR
VERSION:2.0
PRODID:JMS Hockey
X-PUBLISHED-TTL:P1W
BEGIN:VEVENT
UID:69e7c767199a3
DTSTART:20140606T004500Z
SEQUENCE:0
TRANSP:OPAQUE
DTEND:20140606T021500Z
URL:http://jmshockey.com/games/6294
LOCATION:Maple Grove
SUMMARY:Upper Level Game at Maple Grove
CLASS:PUBLIC
DTSTAMP:20260421T135223Z
END:VEVENT
END:VCALENDAR