BEGIN:VCALENDAR
VERSION:2.0
PRODID:JMS Hockey
X-PUBLISHED-TTL:P1W
BEGIN:VEVENT
UID:69e7c3cbeb176
DTSTART:20140604T010000Z
SEQUENCE:0
TRANSP:OPAQUE
DTEND:20140604T023000Z
URL:http://jmshockey.com/games/6288
LOCATION:Maple Grove
SUMMARY:Lower Level Game at Maple Grove
CLASS:PUBLIC
DTSTAMP:20260421T133659Z
END:VEVENT
END:VCALENDAR