BEGIN:VCALENDAR
VERSION:2.0
PRODID:JMS Hockey
X-PUBLISHED-TTL:P1W
BEGIN:VEVENT
UID:69e7aec8d3467
DTSTART:20140521T023000Z
SEQUENCE:0
TRANSP:OPAQUE
DTEND:20140521T040000Z
URL:http://jmshockey.com/games/6287
LOCATION:Maple Grove
SUMMARY:Lower Level Game at Maple Grove
CLASS:PUBLIC
DTSTAMP:20260421T120720Z
END:VEVENT
END:VCALENDAR