BEGIN:VCALENDAR
VERSION:2.0
PRODID:JMS Hockey
X-PUBLISHED-TTL:P1W
BEGIN:VEVENT
UID:69e7a73d33ff2
DTSTART:20140507T023000Z
SEQUENCE:0
TRANSP:OPAQUE
DTEND:20140507T040000Z
URL:http://jmshockey.com/games/6285
LOCATION:Maple Grove
SUMMARY:Lower Level Game at Maple Grove
CLASS:PUBLIC
DTSTAMP:20260421T113509Z
END:VEVENT
END:VCALENDAR