BEGIN:VCALENDAR
VERSION:2.0
PRODID:JMS Hockey
X-PUBLISHED-TTL:P1W
BEGIN:VEVENT
UID:69e799cc15352
DTSTART:20140430T023000Z
SEQUENCE:0
TRANSP:OPAQUE
DTEND:20140430T040000Z
URL:http://jmshockey.com/games/6284
LOCATION:Maple Grove
SUMMARY:Lower Level Game at Maple Grove
CLASS:PUBLIC
DTSTAMP:20260421T103748Z
END:VEVENT
END:VCALENDAR