BEGIN:VCALENDAR
VERSION:2.0
PRODID:JMS Hockey
X-PUBLISHED-TTL:P1W
BEGIN:VEVENT
UID:69e7774039b0c
DTSTART:20140412T002000Z
SEQUENCE:0
TRANSP:OPAQUE
DTEND:20140412T015000Z
URL:http://jmshockey.com/games/6274
LOCATION:Doug Woog Arena (Wakota)
SUMMARY:Intermediate Game at Doug Woog Arena (Wakota)
CLASS:PUBLIC
DTSTAMP:20260421T081024Z
END:VEVENT
END:VCALENDAR