BEGIN:VCALENDAR
VERSION:2.0
PRODID:JMS Hockey
X-PUBLISHED-TTL:P1W
BEGIN:VEVENT
UID:69e7a7a3a0d66
DTSTART:20140411T023000Z
SEQUENCE:0
TRANSP:OPAQUE
DTEND:20140411T040000Z
URL:http://jmshockey.com/games/6266
LOCATION:Roseville Skating Center
SUMMARY:Upper Level Game at Roseville Skating Center
CLASS:PUBLIC
DTSTAMP:20260421T113651Z
END:VEVENT
END:VCALENDAR