BEGIN:VCALENDAR
VERSION:2.0
PRODID:JMS Hockey
X-PUBLISHED-TTL:P1W
BEGIN:VEVENT
UID:69e7b9ad4b0f5
DTSTART:20140306T030000Z
SEQUENCE:0
TRANSP:OPAQUE
DTEND:20140306T043000Z
URL:http://jmshockey.com/games/6260
LOCATION:Minnehaha Academy
SUMMARY:All level Game at Minnehaha Academy
CLASS:PUBLIC
DTSTAMP:20260421T125349Z
END:VEVENT
END:VCALENDAR