BEGIN:VCALENDAR
VERSION:2.0
PRODID:JMS Hockey
X-PUBLISHED-TTL:P1W
BEGIN:VEVENT
UID:69e7d8a51fe04
DTSTART:20140808T001500Z
SEQUENCE:0
TRANSP:OPAQUE
DTEND:20140808T014500Z
URL:http://jmshockey.com/games/6251
LOCATION:Minnetonka Ice Arena
SUMMARY:Intermediate Game at Minnetonka Ice Arena
CLASS:PUBLIC
DTSTAMP:20260421T150557Z
END:VEVENT
END:VCALENDAR