BEGIN:VCALENDAR
VERSION:2.0
PRODID:JMS Hockey
X-PUBLISHED-TTL:P1W
BEGIN:VEVENT
UID:69e8037873e19
DTSTART:20090616T003000Z
SEQUENCE:0
TRANSP:OPAQUE
DTEND:20090616T020000Z
URL:http://jmshockey.com/games/625
LOCATION:New Hope Ice Arena
SUMMARY:Level 4 Game at New Hope Ice Arena
CLASS:PUBLIC
DTSTAMP:20260421T180840Z
END:VEVENT
END:VCALENDAR