BEGIN:VCALENDAR
VERSION:2.0
PRODID:JMS Hockey
X-PUBLISHED-TTL:P1W
BEGIN:VEVENT
UID:69e79a64928ef
DTSTART:20140523T023000Z
SEQUENCE:0
TRANSP:OPAQUE
DTEND:20140523T040000Z
URL:http://jmshockey.com/games/6245
LOCATION:Maple Grove
SUMMARY:Upper Level Game at Maple Grove
CLASS:PUBLIC
DTSTAMP:20260421T104020Z
END:VEVENT
END:VCALENDAR