BEGIN:VCALENDAR
VERSION:2.0
PRODID:JMS Hockey
X-PUBLISHED-TTL:P1W
BEGIN:VEVENT
UID:69e7d51d5f227
DTSTART:20140515T023000Z
SEQUENCE:0
TRANSP:OPAQUE
DTEND:20140515T040000Z
URL:http://jmshockey.com/games/6244
LOCATION:Maple Grove
SUMMARY:Level 3 Game at Maple Grove
CLASS:PUBLIC
DTSTAMP:20260421T145053Z
END:VEVENT
END:VCALENDAR