BEGIN:VCALENDAR
VERSION:2.0
PRODID:JMS Hockey
X-PUBLISHED-TTL:P1W
BEGIN:VEVENT
UID:69e7c3c0b4522
DTSTART:20140410T023000Z
SEQUENCE:0
TRANSP:OPAQUE
DTEND:20140410T040000Z
URL:http://jmshockey.com/games/6239
LOCATION:Maple Grove
SUMMARY:Level 3 Game at Maple Grove
CLASS:PUBLIC
DTSTAMP:20260421T133648Z
END:VEVENT
END:VCALENDAR