BEGIN:VCALENDAR
VERSION:2.0
PRODID:JMS Hockey
X-PUBLISHED-TTL:P1W
BEGIN:VEVENT
UID:69e7c6e8af390
DTSTART:20140403T023000Z
SEQUENCE:0
TRANSP:OPAQUE
DTEND:20140403T040000Z
URL:http://jmshockey.com/games/6238
LOCATION:Maple Grove
SUMMARY:Level 3 Game at Maple Grove
CLASS:PUBLIC
DTSTAMP:20260421T135016Z
END:VEVENT
END:VCALENDAR