BEGIN:VCALENDAR
VERSION:2.0
PRODID:JMS Hockey
X-PUBLISHED-TTL:P1W
BEGIN:VEVENT
UID:69e7d473db48a
DTSTART:20140822T024500Z
SEQUENCE:0
TRANSP:OPAQUE
DTEND:20140822T041500Z
URL:http://jmshockey.com/games/6231
LOCATION:St Thomas Ice Arena
SUMMARY:All level Game at St Thomas Ice Arena
CLASS:PUBLIC
DTSTAMP:20260421T144803Z
END:VEVENT
END:VCALENDAR