BEGIN:VCALENDAR
VERSION:2.0
PRODID:JMS Hockey
X-PUBLISHED-TTL:P1W
BEGIN:VEVENT
UID:69e7adb3f0ed0
DTSTART:20140815T024500Z
SEQUENCE:0
TRANSP:OPAQUE
DTEND:20140815T041500Z
URL:http://jmshockey.com/games/6230
LOCATION:St Thomas Ice Arena
SUMMARY:All level Game at St Thomas Ice Arena
CLASS:PUBLIC
DTSTAMP:20260421T120243Z
END:VEVENT
END:VCALENDAR