BEGIN:VCALENDAR
VERSION:2.0
PRODID:JMS Hockey
X-PUBLISHED-TTL:P1W
BEGIN:VEVENT
UID:69e799a068353
DTSTART:20090616T024500Z
SEQUENCE:0
TRANSP:OPAQUE
DTEND:20090616T041500Z
URL:http://jmshockey.com/games/623
LOCATION:Plymouth Ice Center
SUMMARY:Level 3 Game at Plymouth Ice Center
CLASS:PUBLIC
DTSTAMP:20260421T103704Z
END:VEVENT
END:VCALENDAR