BEGIN:VCALENDAR
VERSION:2.0
PRODID:JMS Hockey
X-PUBLISHED-TTL:P1W
BEGIN:VEVENT
UID:69e7adcf1f1df
DTSTART:20140724T024500Z
SEQUENCE:0
TRANSP:OPAQUE
DTEND:20140724T041500Z
URL:http://jmshockey.com/games/6218
LOCATION:St Thomas Ice Arena
SUMMARY:Lower Level Game at St Thomas Ice Arena
CLASS:PUBLIC
DTSTAMP:20260421T120311Z
END:VEVENT
END:VCALENDAR