BEGIN:VCALENDAR
VERSION:2.0
PRODID:JMS Hockey
X-PUBLISHED-TTL:P1W
BEGIN:VEVENT
UID:69e7a39bb40e1
DTSTART:20140710T024500Z
SEQUENCE:0
TRANSP:OPAQUE
DTEND:20140710T041500Z
URL:http://jmshockey.com/games/6216
LOCATION:St Thomas Ice Arena
SUMMARY:Novice Game at St Thomas Ice Arena
CLASS:PUBLIC
DTSTAMP:20260421T111939Z
END:VEVENT
END:VCALENDAR