BEGIN:VCALENDAR
VERSION:2.0
PRODID:JMS Hockey
X-PUBLISHED-TTL:P1W
BEGIN:VEVENT
UID:69e7adb0f270d
DTSTART:20140610T024500Z
SEQUENCE:0
TRANSP:OPAQUE
DTEND:20140610T041500Z
URL:http://jmshockey.com/games/6210
LOCATION:St Thomas Ice Arena
SUMMARY:Elite Game at St Thomas Ice Arena
CLASS:PUBLIC
DTSTAMP:20260421T120240Z
END:VEVENT
END:VCALENDAR