BEGIN:VCALENDAR
VERSION:2.0
PRODID:JMS Hockey
X-PUBLISHED-TTL:P1W
BEGIN:VEVENT
UID:69e789e417b60
DTSTART:20090616T003000Z
SEQUENCE:0
TRANSP:OPAQUE
DTEND:20090616T020000Z
URL:http://jmshockey.com/games/621
LOCATION:St Thomas Ice Arena
SUMMARY:Level 1 Game at St Thomas Ice Arena
CLASS:PUBLIC
DTSTAMP:20260421T092956Z
END:VEVENT
END:VCALENDAR