BEGIN:VCALENDAR
VERSION:2.0
PRODID:JMS Hockey
X-PUBLISHED-TTL:P1W
BEGIN:VEVENT
UID:69e7e6c229961
DTSTART:20140429T024500Z
SEQUENCE:0
TRANSP:OPAQUE
DTEND:20140429T041500Z
URL:http://jmshockey.com/games/6205
LOCATION:St Thomas Ice Arena
SUMMARY:Elite Game at St Thomas Ice Arena
CLASS:PUBLIC
DTSTAMP:20260421T160610Z
END:VEVENT
END:VCALENDAR