BEGIN:VCALENDAR
VERSION:2.0
PRODID:JMS Hockey
X-PUBLISHED-TTL:P1W
BEGIN:VEVENT
UID:69e7a3363d645
DTSTART:20140716T024500Z
SEQUENCE:0
TRANSP:OPAQUE
DTEND:20140716T041500Z
URL:http://jmshockey.com/games/6196
LOCATION:St Louis Park Rec Center
SUMMARY:Upper Level Game at St Louis Park Rec Center
CLASS:PUBLIC
DTSTAMP:20260421T111758Z
END:VEVENT
END:VCALENDAR