BEGIN:VCALENDAR
VERSION:2.0
PRODID:JMS Hockey
X-PUBLISHED-TTL:P1W
BEGIN:VEVENT
UID:69e7b9bba8fcf
DTSTART:20140726T004500Z
SEQUENCE:0
TRANSP:OPAQUE
DTEND:20140726T021500Z
URL:http://jmshockey.com/games/6192
LOCATION:Breck Anderson Arena
SUMMARY:Upper Level Game at Breck Anderson Arena
CLASS:PUBLIC
DTSTAMP:20260421T125403Z
END:VEVENT
END:VCALENDAR