BEGIN:VCALENDAR
VERSION:2.0
PRODID:JMS Hockey
X-PUBLISHED-TTL:P1W
BEGIN:VEVENT
UID:69e7f87f42ae1
DTSTART:20090613T014500Z
SEQUENCE:0
TRANSP:OPAQUE
DTEND:20090613T031500Z
URL:http://jmshockey.com/games/619
LOCATION:Roseville Skating Center
SUMMARY:Level 3 Game at Roseville Skating Center
CLASS:PUBLIC
DTSTAMP:20260421T172151Z
END:VEVENT
END:VCALENDAR