BEGIN:VCALENDAR
VERSION:2.0
PRODID:JMS Hockey
X-PUBLISHED-TTL:P1W
BEGIN:VEVENT
UID:69e7cb54a6fb1
DTSTART:20140524T004500Z
SEQUENCE:0
TRANSP:OPAQUE
DTEND:20140524T021500Z
URL:http://jmshockey.com/games/6175
LOCATION:Breck Anderson Arena
SUMMARY:Upper Level Game at Breck Anderson Arena
CLASS:PUBLIC
DTSTAMP:20260421T140908Z
END:VEVENT
END:VCALENDAR