BEGIN:VCALENDAR
VERSION:2.0
PRODID:JMS Hockey
X-PUBLISHED-TTL:P1W
BEGIN:VEVENT
UID:69e7adc548088
DTSTART:20140715T023000Z
SEQUENCE:0
TRANSP:OPAQUE
DTEND:20140715T040000Z
URL:http://jmshockey.com/games/6170
LOCATION:Breck Anderson Arena
SUMMARY:Intermediate Game at Breck Anderson Arena
CLASS:PUBLIC
DTSTAMP:20260421T120301Z
END:VEVENT
END:VCALENDAR