BEGIN:VCALENDAR
VERSION:2.0
PRODID:JMS Hockey
X-PUBLISHED-TTL:P1W
BEGIN:VEVENT
UID:69e8b85672e9e
DTSTART:20090613T004500Z
SEQUENCE:0
TRANSP:OPAQUE
DTEND:20090613T021500Z
URL:http://jmshockey.com/games/617
LOCATION:Richfield Ice Arena
SUMMARY:Level 4 Game at Richfield Ice Arena
CLASS:PUBLIC
DTSTAMP:20260422T070022Z
END:VEVENT
END:VCALENDAR