BEGIN:VCALENDAR
VERSION:2.0
PRODID:JMS Hockey
X-PUBLISHED-TTL:P1W
BEGIN:VEVENT
UID:69e795a6cae0c
DTSTART:20140708T023000Z
SEQUENCE:0
TRANSP:OPAQUE
DTEND:20140708T040000Z
URL:http://jmshockey.com/games/6169
LOCATION:Breck Anderson Arena
SUMMARY:Intermediate Game at Breck Anderson Arena
CLASS:PUBLIC
DTSTAMP:20260421T102006Z
END:VEVENT
END:VCALENDAR