BEGIN:VCALENDAR
VERSION:2.0
PRODID:JMS Hockey
X-PUBLISHED-TTL:P1W
BEGIN:VEVENT
UID:69e7d8083c058
DTSTART:20140513T023000Z
SEQUENCE:0
TRANSP:OPAQUE
DTEND:20140513T040000Z
URL:http://jmshockey.com/games/6162
LOCATION:Breck Anderson Arena
SUMMARY:Intermediate Game at Breck Anderson Arena
CLASS:PUBLIC
DTSTAMP:20260421T150320Z
END:VEVENT
END:VCALENDAR