BEGIN:VCALENDAR
VERSION:2.0
PRODID:JMS Hockey
X-PUBLISHED-TTL:P1W
BEGIN:VEVENT
UID:69e7c12886d95
DTSTART:20140321T023000Z
SEQUENCE:0
TRANSP:OPAQUE
DTEND:20140321T040000Z
URL:http://jmshockey.com/games/6155
LOCATION:Roseville Skating Center
SUMMARY:Upper Level Game at Roseville Skating Center
CLASS:PUBLIC
DTSTAMP:20260421T132544Z
END:VEVENT
END:VCALENDAR