BEGIN:VCALENDAR
VERSION:2.0
PRODID:JMS Hockey
X-PUBLISHED-TTL:P1W
BEGIN:VEVENT
UID:69e79f802f72f
DTSTART:20140314T023000Z
SEQUENCE:0
TRANSP:OPAQUE
DTEND:20140314T040000Z
URL:http://jmshockey.com/games/6154
LOCATION:Roseville Skating Center
SUMMARY:Upper Level Game at Roseville Skating Center
CLASS:PUBLIC
DTSTAMP:20260421T110208Z
END:VEVENT
END:VCALENDAR