BEGIN:VCALENDAR
VERSION:2.0
PRODID:JMS Hockey
X-PUBLISHED-TTL:P1W
BEGIN:VEVENT
UID:69e7ca819089a
DTSTART:20140312T005000Z
SEQUENCE:0
TRANSP:OPAQUE
DTEND:20140312T022000Z
URL:http://jmshockey.com/games/6151
LOCATION:Burnsville Arena
SUMMARY:Lower Level Game at Burnsville Arena
CLASS:PUBLIC
DTSTAMP:20260421T140537Z
END:VEVENT
END:VCALENDAR