BEGIN:VCALENDAR
VERSION:2.0
PRODID:JMS Hockey
X-PUBLISHED-TTL:P1W
BEGIN:VEVENT
UID:69e7c37ac1dc8
DTSTART:20140219T030000Z
SEQUENCE:0
TRANSP:OPAQUE
DTEND:20140219T043000Z
URL:http://jmshockey.com/games/6144
LOCATION:Polar Arena
SUMMARY:Upper Level Game at Polar Arena
CLASS:PUBLIC
DTSTAMP:20260421T133538Z
END:VEVENT
END:VCALENDAR