BEGIN:VCALENDAR
VERSION:2.0
PRODID:JMS Hockey
X-PUBLISHED-TTL:P1W
BEGIN:VEVENT
UID:69e7cb34d14e4
DTSTART:20140323T004500Z
SEQUENCE:0
TRANSP:OPAQUE
DTEND:20140323T021500Z
URL:http://jmshockey.com/games/6116
LOCATION:St Thomas Ice Arena
SUMMARY:All level Game at St Thomas Ice Arena
CLASS:PUBLIC
DTSTAMP:20260421T140836Z
END:VEVENT
END:VCALENDAR