BEGIN:VCALENDAR
VERSION:2.0
PRODID:JMS Hockey
X-PUBLISHED-TTL:P1W
BEGIN:VEVENT
UID:69e79a1e5105f
DTSTART:20140315T014000Z
SEQUENCE:0
TRANSP:OPAQUE
DTEND:20140315T031000Z
URL:http://jmshockey.com/games/6108
LOCATION:Doug Woog Arena (Wakota)
SUMMARY:Intermediate Game at Doug Woog Arena (Wakota)
CLASS:PUBLIC
DTSTAMP:20260421T103910Z
END:VEVENT
END:VCALENDAR