BEGIN:VCALENDAR
VERSION:2.0
PRODID:JMS Hockey
X-PUBLISHED-TTL:P1W
BEGIN:VEVENT
UID:69e79a5782331
DTSTART:20140329T014000Z
SEQUENCE:0
TRANSP:OPAQUE
DTEND:20140329T031000Z
URL:http://jmshockey.com/games/6107
LOCATION:Doug Woog Arena (Wakota)
SUMMARY:Intermediate Game at Doug Woog Arena (Wakota)
CLASS:PUBLIC
DTSTAMP:20260421T104007Z
END:VEVENT
END:VCALENDAR