BEGIN:VCALENDAR
VERSION:2.0
PRODID:JMS Hockey
X-PUBLISHED-TTL:P1W
BEGIN:VEVENT
UID:69e7cb2d1b99c
DTSTART:20140620T024500Z
SEQUENCE:0
TRANSP:OPAQUE
DTEND:20140620T041500Z
URL:http://jmshockey.com/games/6090
LOCATION:St Thomas Ice Arena
SUMMARY:All level Game at St Thomas Ice Arena
CLASS:PUBLIC
DTSTAMP:20260421T140829Z
END:VEVENT
END:VCALENDAR