BEGIN:VCALENDAR
VERSION:2.0
PRODID:JMS Hockey
X-PUBLISHED-TTL:P1W
BEGIN:VEVENT
UID:69e88d9c36c8a
DTSTART:20140606T024500Z
SEQUENCE:0
TRANSP:OPAQUE
DTEND:20140606T041500Z
URL:http://jmshockey.com/games/6088
LOCATION:St Thomas Ice Arena
SUMMARY:All level Game at St Thomas Ice Arena
CLASS:PUBLIC
DTSTAMP:20260422T035804Z
END:VEVENT
END:VCALENDAR