BEGIN:VCALENDAR
VERSION:2.0
PRODID:JMS Hockey
X-PUBLISHED-TTL:P1W
BEGIN:VEVENT
UID:69e7855e937f0
DTSTART:20140529T024500Z
SEQUENCE:0
TRANSP:OPAQUE
DTEND:20140529T041500Z
URL:http://jmshockey.com/games/6083
LOCATION:St Thomas Ice Arena
SUMMARY:Lower Level Game at St Thomas Ice Arena
CLASS:PUBLIC
DTSTAMP:20260421T091038Z
END:VEVENT
END:VCALENDAR