BEGIN:VCALENDAR
VERSION:2.0
PRODID:JMS Hockey
X-PUBLISHED-TTL:P1W
BEGIN:VEVENT
UID:69e7f87f47915
DTSTART:20140424T024500Z
SEQUENCE:0
TRANSP:OPAQUE
DTEND:20140424T041500Z
URL:http://jmshockey.com/games/6069
LOCATION:St Thomas Ice Arena
SUMMARY:Lower Level Game at St Thomas Ice Arena
CLASS:PUBLIC
DTSTAMP:20260421T172151Z
END:VEVENT
END:VCALENDAR